Package: ExCluster Version: 1.28.0 Command: rm -rf ExCluster.buildbin-libdir && mkdir ExCluster.buildbin-libdir && /Users/biocbuild/BBS/utils/build-universal.sh ExCluster_1.28.0.tar.gz /Library/Frameworks/R.framework/Resources/bin/R ExCluster.buildbin-libdir StartedAt: 2025-11-10 23:19:43 -0500 (Mon, 10 Nov 2025) EndedAt: 2025-11-10 23:19:56 -0500 (Mon, 10 Nov 2025) EllapsedTime: 13.2 seconds RetCode: 0 Status: OK PackageFile: ExCluster_1.28.0.tgz PackageFileSize: 487.4 KiB