Package: EventPointer Version: 3.17.0 Command: /home/biocbuild/bbs-3.22-bioc/R/bin/R CMD INSTALL EventPointer StartedAt: 2025-10-24 16:11:35 -0400 (Fri, 24 Oct 2025) EndedAt: 2025-10-24 16:12:24 -0400 (Fri, 24 Oct 2025) EllapsedTime: 49.3 seconds RetCode: 0 Status: OK