Package: EventPointer Version: 3.18.0 Command: /Library/Frameworks/R.framework/Resources/bin/R CMD INSTALL EventPointer StartedAt: 2025-11-03 15:55:30 -0500 (Mon, 03 Nov 2025) EndedAt: 2025-11-03 15:56:38 -0500 (Mon, 03 Nov 2025) EllapsedTime: 67.8 seconds RetCode: 0 Status: OK