Package: EventPointer Version: 3.18.0 Command: /Library/Frameworks/R.framework/Resources/bin/R CMD build --keep-empty-dirs --no-resave-data EventPointer StartedAt: 2025-11-03 16:59:24 -0500 (Mon, 03 Nov 2025) EndedAt: 2025-11-03 17:00:56 -0500 (Mon, 03 Nov 2025) EllapsedTime: 91.5 seconds RetCode: 0 Status: OK PackageFile: EventPointer_3.18.0.tar.gz PackageFileSize: 1.642 MiB