Package: EventPointer Version: 3.18.0 Command: rm -rf EventPointer.buildbin-libdir && mkdir EventPointer.buildbin-libdir && /Users/biocbuild/BBS/utils/build-universal.sh EventPointer_3.18.0.tar.gz /Library/Frameworks/R.framework/Resources/bin/R EventPointer.buildbin-libdir StartedAt: 2025-11-04 01:39:32 -0500 (Tue, 04 Nov 2025) EndedAt: 2025-11-04 01:40:54 -0500 (Tue, 04 Nov 2025) EllapsedTime: 81.6 seconds RetCode: 0 Status: OK PackageFile: EventPointer_3.18.0.tgz PackageFileSize: 1.315 MiB