Package: EventPointer Version: 3.18.0 Command: /Library/Frameworks/R.framework/Resources/bin/R CMD INSTALL EventPointer StartedAt: 2025-10-29 21:54:13 -0400 (Wed, 29 Oct 2025) EndedAt: 2025-10-29 21:54:34 -0400 (Wed, 29 Oct 2025) EllapsedTime: 21.6 seconds RetCode: 0 Status: OK