Package: EventPointer Version: 3.17.0 Command: rm -rf EventPointer.buildbin-libdir && mkdir EventPointer.buildbin-libdir && /Users/biocbuild/BBS/utils/build-universal.sh EventPointer_3.17.0.tar.gz /Library/Frameworks/R.framework/Resources/bin/R EventPointer.buildbin-libdir StartedAt: 2025-10-28 22:59:18 -0400 (Tue, 28 Oct 2025) EndedAt: 2025-10-28 22:59:42 -0400 (Tue, 28 Oct 2025) EllapsedTime: 23.5 seconds RetCode: 0 Status: OK PackageFile: EventPointer_3.17.0.tgz PackageFileSize: 1.313 MiB