Package: EpipwR Version: 1.4.0 Command: /home/biocbuild/bbs-3.22-bioc/R/bin/R CMD INSTALL EpipwR StartedAt: 2025-11-03 15:27:24 -0500 (Mon, 03 Nov 2025) EndedAt: 2025-11-03 15:27:38 -0500 (Mon, 03 Nov 2025) EllapsedTime: 14.3 seconds RetCode: 0 Status: OK