Package: EnrichmentBrowser Version: 2.40.0 Command: /home/biocbuild/bbs-3.22-bioc/R/bin/R CMD INSTALL EnrichmentBrowser StartedAt: 2025-11-16 16:03:51 -0500 (Sun, 16 Nov 2025) EndedAt: 2025-11-16 16:04:29 -0500 (Sun, 16 Nov 2025) EllapsedTime: 37.8 seconds RetCode: 0 Status: OK