Package: EnrichDO Version: 1.4.0 Command: /home/biocbuild/bbs-3.22-bioc/R/bin/R CMD INSTALL EnrichDO StartedAt: 2025-11-03 15:15:09 -0500 (Mon, 03 Nov 2025) EndedAt: 2025-11-03 15:15:21 -0500 (Mon, 03 Nov 2025) EllapsedTime: 12.5 seconds RetCode: 0 Status: OK