Package: EnhancedVolcano Version: 1.28.0 Command: /home/biocbuild/bbs-3.22-bioc/R/bin/R CMD INSTALL EnhancedVolcano StartedAt: 2025-11-06 15:07:08 -0500 (Thu, 06 Nov 2025) EndedAt: 2025-11-06 15:07:17 -0500 (Thu, 06 Nov 2025) EllapsedTime: 9.0 seconds RetCode: 0 Status: OK