Package: EnhancedVolcano Version: 1.28.0 Command: /home/biocbuild/bbs-3.22-bioc/R/bin/R CMD build --keep-empty-dirs --no-resave-data --md5 EnhancedVolcano StartedAt: 2025-11-06 17:29:29 -0500 (Thu, 06 Nov 2025) EndedAt: 2025-11-06 17:31:11 -0500 (Thu, 06 Nov 2025) EllapsedTime: 102.1 seconds RetCode: 0 Status: OK PackageFile: EnhancedVolcano_1.28.0.tar.gz PackageFileSize: 9.413 MiB