Package: EnMCB Version: 1.21.0 Command: /home/biocbuild/bbs-3.22-bioc/R/bin/R CMD INSTALL EnMCB StartedAt: 2025-10-27 15:11:31 -0400 (Mon, 27 Oct 2025) EndedAt: 2025-10-27 15:11:48 -0400 (Mon, 27 Oct 2025) EllapsedTime: 17.0 seconds RetCode: 0 Status: OK