Package: EWCE Version: 1.18.0 Command: /home/biocbuild/bbs-3.22-bioc/R/bin/R CMD INSTALL EWCE StartedAt: 2025-11-17 17:26:25 -0500 (Mon, 17 Nov 2025) EndedAt: 2025-11-17 17:27:03 -0500 (Mon, 17 Nov 2025) EllapsedTime: 37.7 seconds RetCode: 0 Status: OK