Package: EWCE Version: 1.18.0 Command: /home/biocbuild/bbs-3.22-bioc/R/bin/R CMD build --keep-empty-dirs --no-resave-data --md5 EWCE StartedAt: 2025-11-17 20:57:10 -0500 (Mon, 17 Nov 2025) EndedAt: 2025-11-17 21:01:24 -0500 (Mon, 17 Nov 2025) EllapsedTime: 253.3 seconds RetCode: 0 Status: OK PackageFile: EWCE_1.18.0.tar.gz PackageFileSize: 2.715 MiB