Package: ERSSA Version: 1.28.0 Command: /home/biocbuild/bbs-3.22-bioc/R/bin/R CMD INSTALL ERSSA StartedAt: 2025-11-14 15:34:59 -0500 (Fri, 14 Nov 2025) EndedAt: 2025-11-14 15:35:28 -0500 (Fri, 14 Nov 2025) EllapsedTime: 28.4 seconds RetCode: 0 Status: OK