Package: ELViS Version: 1.2.0 Command: /home/biocbuild/bbs-3.22-bioc/R/bin/R CMD INSTALL ELViS StartedAt: 2025-11-16 15:42:16 -0500 (Sun, 16 Nov 2025) EndedAt: 2025-11-16 15:43:05 -0500 (Sun, 16 Nov 2025) EllapsedTime: 49.0 seconds RetCode: 0 Status: OK