Package: ELViS Version: 1.2.0 Command: /home/biocbuild/bbs-3.22-bioc/R/bin/R CMD build --keep-empty-dirs --no-resave-data --md5 ELViS StartedAt: 2025-11-16 17:35:34 -0500 (Sun, 16 Nov 2025) EndedAt: 2025-11-16 17:37:37 -0500 (Sun, 16 Nov 2025) EllapsedTime: 123.2 seconds RetCode: 0 Status: OK PackageFile: ELViS_1.2.0.tar.gz PackageFileSize: 2.391 MiB