Package: EDIRquery Version: 1.9.0 Command: /home/biocbuild/bbs-3.22-bioc/R/bin/R CMD INSTALL EDIRquery StartedAt: 2025-10-27 15:27:51 -0400 (Mon, 27 Oct 2025) EndedAt: 2025-10-27 15:28:15 -0400 (Mon, 27 Oct 2025) EllapsedTime: 24.5 seconds RetCode: 0 Status: OK