Package: EDIRquery Version: 1.10.0 Command: /Library/Frameworks/R.framework/Resources/bin/R CMD INSTALL EDIRquery StartedAt: 2025-11-03 15:32:10 -0500 (Mon, 03 Nov 2025) EndedAt: 2025-11-03 15:32:43 -0500 (Mon, 03 Nov 2025) EllapsedTime: 32.9 seconds RetCode: 0 Status: OK