Package: EDIRquery Version: 1.10.0 Command: /Library/Frameworks/R.framework/Resources/bin/R CMD build --keep-empty-dirs --no-resave-data EDIRquery StartedAt: 2025-11-03 16:54:31 -0500 (Mon, 03 Nov 2025) EndedAt: 2025-11-03 16:55:18 -0500 (Mon, 03 Nov 2025) EllapsedTime: 47.0 seconds RetCode: 0 Status: OK PackageFile: EDIRquery_1.10.0.tar.gz PackageFileSize: 1.376 MiB