Package: EDIRquery Version: 1.10.0 Command: /Library/Frameworks/R.framework/Resources/bin/R CMD INSTALL EDIRquery StartedAt: 2025-11-17 17:39:39 -0500 (Mon, 17 Nov 2025) EndedAt: 2025-11-17 17:39:48 -0500 (Mon, 17 Nov 2025) EllapsedTime: 9.2 seconds RetCode: 0 Status: OK