Package: EDIRquery Version: 1.10.0 Command: /Library/Frameworks/R.framework/Resources/bin/R CMD build --keep-empty-dirs --no-resave-data EDIRquery StartedAt: 2025-11-17 20:55:05 -0500 (Mon, 17 Nov 2025) EndedAt: 2025-11-17 20:55:20 -0500 (Mon, 17 Nov 2025) EllapsedTime: 15.1 seconds RetCode: 0 Status: OK PackageFile: EDIRquery_1.10.0.tar.gz PackageFileSize: 1.376 MiB