Package: EDIRquery Version: 1.10.0 Command: rm -rf EDIRquery.buildbin-libdir && mkdir EDIRquery.buildbin-libdir && /Users/biocbuild/BBS/utils/build-universal.sh EDIRquery_1.10.0.tar.gz /Library/Frameworks/R.framework/Resources/bin/R EDIRquery.buildbin-libdir StartedAt: 2025-11-18 15:29:52 -0500 (Tue, 18 Nov 2025) EndedAt: 2025-11-18 15:30:05 -0500 (Tue, 18 Nov 2025) EllapsedTime: 13.2 seconds RetCode: 0 Status: OK PackageFile: EDIRquery_1.10.0.tgz PackageFileSize: 1.624 MiB