Package: EBcoexpress Version: 1.54.0 Command: /home/biocbuild/bbs-3.22-bioc/R/bin/R CMD INSTALL EBcoexpress StartedAt: 2025-11-14 15:14:47 -0500 (Fri, 14 Nov 2025) EndedAt: 2025-11-14 15:14:52 -0500 (Fri, 14 Nov 2025) EllapsedTime: 4.9 seconds RetCode: 0 Status: OK