Package: EBarrays Version: 2.74.0 Command: /home/biocbuild/bbs-3.22-bioc/R/bin/R CMD check --install=check:EBarrays.install-out.txt --library=/home/biocbuild/bbs-3.22-bioc/R/site-library --timings EBarrays_2.74.0.tar.gz StartedAt: 2025-10-31 23:24:10 -0400 (Fri, 31 Oct 2025) EndedAt: 2025-10-31 23:24:57 -0400 (Fri, 31 Oct 2025) EllapsedTime: 47.1 seconds RetCode: 0 Status: OK CheckDir: EBarrays.Rcheck Warnings: 0