Package: EBarrays Version: 2.73.0 Command: /home/biocbuild/bbs-3.22-bioc/R/bin/R CMD build --keep-empty-dirs --no-resave-data --md5 EBarrays StartedAt: 2025-10-24 17:36:32 -0400 (Fri, 24 Oct 2025) EndedAt: 2025-10-24 17:36:50 -0400 (Fri, 24 Oct 2025) EllapsedTime: 18.0 seconds RetCode: 0 Status: OK PackageFile: EBarrays_2.73.0.tar.gz PackageFileSize: 1.04 MiB