Package: EBarrays Version: 2.73.0 Command: /Library/Frameworks/R.framework/Resources/bin/R CMD INSTALL EBarrays StartedAt: 2025-10-24 15:22:09 -0400 (Fri, 24 Oct 2025) EndedAt: 2025-10-24 15:22:19 -0400 (Fri, 24 Oct 2025) EllapsedTime: 9.8 seconds RetCode: 0 Status: OK