Package: EBarrays Version: 2.73.0 Command: /Library/Frameworks/R.framework/Resources/bin/R CMD build --keep-empty-dirs --no-resave-data EBarrays StartedAt: 2025-10-24 16:57:33 -0400 (Fri, 24 Oct 2025) EndedAt: 2025-10-24 16:58:00 -0400 (Fri, 24 Oct 2025) EllapsedTime: 27.5 seconds RetCode: 0 Status: OK PackageFile: EBarrays_2.73.0.tar.gz PackageFileSize: 1.039 MiB