Package: EBarrays Version: 2.73.0 Command: rm -rf EBarrays.buildbin-libdir && mkdir EBarrays.buildbin-libdir && /Users/biocbuild/BBS/utils/build-universal.sh EBarrays_2.73.0.tar.gz /Library/Frameworks/R.framework/Resources/bin/R EBarrays.buildbin-libdir StartedAt: 2025-10-25 01:38:32 -0400 (Sat, 25 Oct 2025) EndedAt: 2025-10-25 01:38:45 -0400 (Sat, 25 Oct 2025) EllapsedTime: 12.6 seconds RetCode: 0 Status: OK PackageFile: EBarrays_2.73.0.tgz PackageFileSize: 1.268 MiB