Package: EBarrays Version: 2.73.0 Command: /Library/Frameworks/R.framework/Resources/bin/R CMD build --keep-empty-dirs --no-resave-data EBarrays StartedAt: 2025-10-24 16:20:02 -0400 (Fri, 24 Oct 2025) EndedAt: 2025-10-24 16:20:13 -0400 (Fri, 24 Oct 2025) EllapsedTime: 11.1 seconds RetCode: 0 Status: OK PackageFile: EBarrays_2.73.0.tar.gz PackageFileSize: 1.04 MiB