Package: EBSeq Version: 2.8.0 Command: /home/biocbuild/bbs-3.22-bioc/R/bin/R CMD INSTALL EBSeq StartedAt: 2025-11-17 17:08:06 -0500 (Mon, 17 Nov 2025) EndedAt: 2025-11-17 17:08:35 -0500 (Mon, 17 Nov 2025) EllapsedTime: 28.8 seconds RetCode: 0 Status: OK