Package: DynDoc Version: 1.88.0 Command: /Library/Frameworks/R.framework/Resources/bin/R CMD build --keep-empty-dirs --no-resave-data DynDoc StartedAt: 2025-11-03 16:53:20 -0500 (Mon, 03 Nov 2025) EndedAt: 2025-11-03 16:53:23 -0500 (Mon, 03 Nov 2025) EllapsedTime: 2.3 seconds RetCode: 0 Status: OK PackageFile: DynDoc_1.88.0.tar.gz PackageFileSize: 10.97 KiB