Package: DynDoc Version: 1.87.0 Command: /Library/Frameworks/R.framework/Resources/bin/R CMD INSTALL DynDoc StartedAt: 2025-10-27 15:01:16 -0400 (Mon, 27 Oct 2025) EndedAt: 2025-10-27 15:01:17 -0400 (Mon, 27 Oct 2025) EllapsedTime: 1.8 seconds RetCode: 0 Status: OK