Package: DynDoc Version: 1.87.0 Command: /Library/Frameworks/R.framework/Resources/bin/R CMD build --keep-empty-dirs --no-resave-data DynDoc StartedAt: 2025-10-27 16:17:18 -0400 (Mon, 27 Oct 2025) EndedAt: 2025-10-27 16:17:19 -0400 (Mon, 27 Oct 2025) EllapsedTime: 1.0 seconds RetCode: 0 Status: OK PackageFile: DynDoc_1.87.0.tar.gz PackageFileSize: 10.96 KiB