Package: DuplexDiscovereR Version: 1.4.0 Command: /home/biocbuild/bbs-3.22-bioc/R/bin/R CMD INSTALL DuplexDiscovereR StartedAt: 2025-11-03 15:49:55 -0500 (Mon, 03 Nov 2025) EndedAt: 2025-11-03 15:51:34 -0500 (Mon, 03 Nov 2025) EllapsedTime: 99.8 seconds RetCode: 0 Status: OK