Package: DuplexDiscovereR Version: 1.4.0 Command: /home/biocbuild/bbs-3.22-bioc/R/bin/R CMD build --keep-empty-dirs --no-resave-data --md5 DuplexDiscovereR StartedAt: 2025-10-31 17:36:03 -0400 (Fri, 31 Oct 2025) EndedAt: 2025-10-31 17:38:06 -0400 (Fri, 31 Oct 2025) EllapsedTime: 123.1 seconds RetCode: 0 Status: OK PackageFile: DuplexDiscovereR_1.4.0.tar.gz PackageFileSize: 1016 KiB