Package: DspikeIn Version: 1.0.0 Command: /home/biocbuild/bbs-3.22-bioc/R/bin/R CMD INSTALL DspikeIn StartedAt: 2025-11-11 15:40:55 -0500 (Tue, 11 Nov 2025) EndedAt: 2025-11-11 15:41:50 -0500 (Tue, 11 Nov 2025) EllapsedTime: 54.9 seconds RetCode: 0 Status: OK