Package: DropletUtils Version: 1.29.7 Command: /home/biocbuild/bbs-3.22-bioc/R/bin/R CMD build --keep-empty-dirs --no-resave-data --md5 DropletUtils StartedAt: 2025-10-10 17:36:45 -0400 (Fri, 10 Oct 2025) EndedAt: 2025-10-10 17:38:30 -0400 (Fri, 10 Oct 2025) EllapsedTime: 105.1 seconds RetCode: 0 Status: OK PackageFile: DropletUtils_1.29.7.tar.gz PackageFileSize: 594.8 KiB