Package: DropletUtils Version: 1.30.0 Command: /Library/Frameworks/R.framework/Resources/bin/R CMD INSTALL DropletUtils StartedAt: 2025-11-10 15:16:08 -0500 (Mon, 10 Nov 2025) EndedAt: 2025-11-10 15:16:36 -0500 (Mon, 10 Nov 2025) EllapsedTime: 28.5 seconds RetCode: 0 Status: OK