Package: DropletUtils Version: 1.30.0 Command: /Library/Frameworks/R.framework/Resources/bin/R CMD build --keep-empty-dirs --no-resave-data DropletUtils StartedAt: 2025-11-10 16:16:17 -0500 (Mon, 10 Nov 2025) EndedAt: 2025-11-10 16:16:53 -0500 (Mon, 10 Nov 2025) EllapsedTime: 36.4 seconds RetCode: 0 Status: OK PackageFile: DropletUtils_1.30.0.tar.gz PackageFileSize: 620 KiB