Back to Multiple platform build/check report for BioC 3.22:   simplified   long
ABC[D]EFGHIJKLMNOPQRSTUVWXYZ

This page was generated on 2025-10-24 12:02 -0400 (Fri, 24 Oct 2025).

HostnameOSArch (*)R versionInstalled pkgs
nebbiolo2Linux (Ubuntu 24.04.3 LTS)x86_644.5.1 Patched (2025-08-23 r88802) -- "Great Square Root" 4898
lconwaymacOS 12.7.6 Montereyx86_644.5.1 Patched (2025-09-10 r88807) -- "Great Square Root" 4688
kjohnson3macOS 13.7.7 Venturaarm644.5.1 Patched (2025-09-10 r88807) -- "Great Square Root" 4634
taishanLinux (openEuler 24.03 LTS)aarch644.5.0 (2025-04-11) -- "How About a Twenty-Six" 4658
Click on any hostname to see more info about the system (e.g. compilers)      (*) as reported by 'uname -p', except on Windows and Mac OS X

All results for package DropletUtils


To the developers/maintainers of the DropletUtils package:
- Allow up to 24 hours (and sometimes 48 hours) for your latest push to git@git.bioconductor.org:packages/DropletUtils.git to reflect on this report. See Troubleshooting Build Report for more information.
- Use the following Renviron settings to reproduce errors and warnings.
- If 'R CMD check' started to fail recently on the Linux builder(s) over a missing dependency, add the missing dependency to 'Suggests:' in your DESCRIPTION file. See Renviron.bioc for more information.

raw results

Package 628/2359HostnameOS / ArchINSTALLBUILDCHECKBUILD BIN
DropletUtils 1.29.7  (landing page)
Jonathan Griffiths
Snapshot Date: 2025-10-23 14:17 -0400 (Thu, 23 Oct 2025)
git_url: https://git.bioconductor.org/packages/DropletUtils
git_branch: devel
git_last_commit: d85890b
git_last_commit_date: 2025-08-27 13:53:10 -0400 (Wed, 27 Aug 2025)
nebbiolo2Linux (Ubuntu 24.04.3 LTS) / x86_64  OK    OK    WARNINGS  UNNEEDED, same version is already published
lconwaymacOS 12.7.6 Monterey / x86_64  OK    OK    WARNINGS    OK  UNNEEDED, same version is already published
kjohnson3macOS 13.7.7 Ventura / arm64  OK    OK    WARNINGS    OK  UNNEEDED, same version is already published
taishanLinux (openEuler 24.03 LTS) / aarch64  OK    OK    ERROR  



Results for Bioconductor software packages that depend directly on package DropletUtils

QUICK STATSOS / ArchINSTALLBUILDCHECKBUILD BIN
nebbiolo2Linux (Ubuntu 24.04.3 LTS) / x86_64
0010
028
0017
lconwaymacOS 12.7.6 Monterey / x86_64
0010
028
0017
008
kjohnson3macOS 13.7.7 Ventura / arm64
0010
028
0017
008
taishanLinux (openEuler 24.03 LTS) / aarch64
0010
019
0100
Package 1/10HostnameOS / ArchINSTALLBUILDCHECKBUILD BIN
DOtools 0.99.11  (landing page)
Mariano Ruz Jurado
git_last_commit: 95e75ee
git_last_commit_date: 2025-10-09 05:46:33 -0400
nebbiolo2Linux (Ubuntu 24.04.3 LTS) / x86_64  OK    ERROR  skipped
lconwaymacOS 12.7.6 Monterey / x86_64  OK    ERROR  skippedskipped
kjohnson3macOS 13.7.7 Ventura / arm64  OK    ERROR  skippedskipped
taishanLinux (openEuler 24.03 LTS) / aarch64  OK    OK    ERROR  
Package 2/10HostnameOS / ArchINSTALLBUILDCHECKBUILD BIN
scCB2 1.19.0  (landing page)
Zijian Ni
git_last_commit: 96be392
git_last_commit_date: 2025-04-15 12:04:30 -0400
nebbiolo2Linux (Ubuntu 24.04.3 LTS) / x86_64  OK    OK    OK  UNNEEDED, same version is already published
lconwaymacOS 12.7.6 Monterey / x86_64  OK    OK    OK    OK  UNNEEDED, same version is already published
kjohnson3macOS 13.7.7 Ventura / arm64  OK    OK    OK    OK  UNNEEDED, same version is already published
taishanLinux (openEuler 24.03 LTS) / aarch64  OK    OK    NA  
Package 3/10HostnameOS / ArchINSTALLBUILDCHECKBUILD BIN
scPipe 2.9.0  (landing page)
Shian Su
git_last_commit: f3a6ca4
git_last_commit_date: 2025-04-15 11:15:16 -0400
nebbiolo2Linux (Ubuntu 24.04.3 LTS) / x86_64  OK    OK    OK  UNNEEDED, same version is already published
lconwaymacOS 12.7.6 Monterey / x86_64  OK    OK    OK    OK  UNNEEDED, same version is already published
kjohnson3macOS 13.7.7 Ventura / arm64  OK    OK    OK    OK  UNNEEDED, same version is already published
taishanLinux (openEuler 24.03 LTS) / aarch64  OK    OK    NA  
Package 4/10HostnameOS / ArchINSTALLBUILDCHECKBUILD BIN
singleCellTK 2.19.2  (landing page)
Joshua David Campbell
git_last_commit: 238aed05
git_last_commit_date: 2025-09-26 08:22:06 -0400
nebbiolo2Linux (Ubuntu 24.04.3 LTS) / x86_64  OK    OK    OK  UNNEEDED, same version is already published
lconwaymacOS 12.7.6 Monterey / x86_64  OK    OK    OK    OK  UNNEEDED, same version is already published
kjohnson3macOS 13.7.7 Ventura / arm64  OK    OK    OK    OK  UNNEEDED, same version is already published
taishanLinux (openEuler 24.03 LTS) / aarch64  OK    OK    NA  
Package 5/10HostnameOS / ArchINSTALLBUILDCHECKBUILD BIN
SpaceTrooper 0.99.47  (landing page)
Dario Righelli
git_last_commit: 5c86b34
git_last_commit_date: 2025-10-21 04:43:10 -0400
nebbiolo2Linux (Ubuntu 24.04.3 LTS) / x86_64  OK    OK    OK  UNNEEDED, same version is already published
lconwaymacOS 12.7.6 Monterey / x86_64  OK    OK    OK    OK  UNNEEDED, same version is already published
kjohnson3macOS 13.7.7 Ventura / arm64  OK    OK    OK    OK  UNNEEDED, same version is already published
taishanLinux (openEuler 24.03 LTS) / aarch64  OK    OK    NA  
Package 6/10HostnameOS / ArchINSTALLBUILDCHECKBUILD BIN
Spaniel 1.23.0  (landing page)
Rachel Queen
git_last_commit: 11182b5
git_last_commit_date: 2025-04-15 11:50:12 -0400
nebbiolo2Linux (Ubuntu 24.04.3 LTS) / x86_64  OK    OK    OK  UNNEEDED, same version is already published
lconwaymacOS 12.7.6 Monterey / x86_64  OK    OK    OK    OK  UNNEEDED, same version is already published
kjohnson3macOS 13.7.7 Ventura / arm64  OK    OK    OK    OK  UNNEEDED, same version is already published
taishanLinux (openEuler 24.03 LTS) / aarch64  OK    OK    NA  
Package 7/10HostnameOS / ArchINSTALLBUILDCHECKBUILD BIN
SpatialExperimentIO 1.1.0  (landing page)
Yixing E. Dong
git_last_commit: a7ffc23
git_last_commit_date: 2025-04-15 13:46:21 -0400
nebbiolo2Linux (Ubuntu 24.04.3 LTS) / x86_64  OK    OK    OK  UNNEEDED, same version is already published
lconwaymacOS 12.7.6 Monterey / x86_64  OK    OK    OK    OK  UNNEEDED, same version is already published
kjohnson3macOS 13.7.7 Ventura / arm64  OK    OK    OK    OK  UNNEEDED, same version is already published
taishanLinux (openEuler 24.03 LTS) / aarch64  OK    OK    NA  
Package 8/10HostnameOS / ArchINSTALLBUILDCHECKBUILD BIN
SpatialFeatureExperiment 1.11.1  (landing page)
Lambda Moses
git_last_commit: 80353da
git_last_commit_date: 2025-09-25 21:36:28 -0400
nebbiolo2Linux (Ubuntu 24.04.3 LTS) / x86_64  OK    ERROR  skipped
lconwaymacOS 12.7.6 Monterey / x86_64  OK    ERROR  skippedskipped
kjohnson3macOS 13.7.7 Ventura / arm64  OK    ERROR  skippedskipped
taishanLinux (openEuler 24.03 LTS) / aarch64  OK    ERROR  skipped
Package 9/10HostnameOS / ArchINSTALLBUILDCHECKBUILD BIN
stPipe 0.99.995  (landing page)
Yang Xu
git_last_commit: c0b834c
git_last_commit_date: 2025-10-16 03:23:29 -0400
nebbiolo2Linux (Ubuntu 24.04.3 LTS) / x86_64  OK    OK    WARNINGS  UNNEEDED, same version is already published
lconwaymacOS 12.7.6 Monterey / x86_64  OK    OK    WARNINGS    OK  UNNEEDED, same version is already published
kjohnson3macOS 13.7.7 Ventura / arm64  OK    OK    WARNINGS    OK  UNNEEDED, same version is already published
taishanLinux (openEuler 24.03 LTS) / aarch64  OK    OK    NA  
Package 10/10HostnameOS / ArchINSTALLBUILDCHECKBUILD BIN
visiumStitched 1.1.3  (landing page)
Nicholas J. Eagles
git_last_commit: 96538ca
git_last_commit_date: 2025-10-22 18:29:54 -0400
nebbiolo2Linux (Ubuntu 24.04.3 LTS) / x86_64  OK    OK    OK  YES
lconwaymacOS 12.7.6 Monterey / x86_64  OK    OK    OK    OK  YES
kjohnson3macOS 13.7.7 Ventura / arm64  OK    OK    OK    OK  YES
taishanLinux (openEuler 24.03 LTS) / aarch64  OK    OK    NA