Package: DriverNet Version: 1.49.0 Command: /home/biocbuild/bbs-3.22-bioc/R/bin/R CMD build --keep-empty-dirs --no-resave-data --md5 DriverNet StartedAt: 2025-10-24 17:34:31 -0400 (Fri, 24 Oct 2025) EndedAt: 2025-10-24 17:35:01 -0400 (Fri, 24 Oct 2025) EllapsedTime: 30.0 seconds RetCode: 0 Status: OK PackageFile: DriverNet_1.49.0.tar.gz PackageFileSize: 1.118 MiB