Package: DriverNet Version: 1.50.0 Command: /Library/Frameworks/R.framework/Resources/bin/R CMD build --keep-empty-dirs --no-resave-data DriverNet StartedAt: 2025-11-10 16:16:14 -0500 (Mon, 10 Nov 2025) EndedAt: 2025-11-10 16:16:28 -0500 (Mon, 10 Nov 2025) EllapsedTime: 14.2 seconds RetCode: 0 Status: OK PackageFile: DriverNet_1.50.0.tar.gz PackageFileSize: 1.116 MiB