Package: DominoEffect Version: 1.30.0 Command: /home/biocbuild/bbs-3.22-bioc/R/bin/R CMD INSTALL DominoEffect StartedAt: 2025-11-17 18:04:59 -0500 (Mon, 17 Nov 2025) EndedAt: 2025-11-17 18:05:40 -0500 (Mon, 17 Nov 2025) EllapsedTime: 41.4 seconds RetCode: 0 Status: OK