Package: DominoEffect Version: 1.30.0 Command: /home/biocbuild/bbs-3.22-bioc/R/bin/R CMD build --keep-empty-dirs --no-resave-data --md5 DominoEffect StartedAt: 2025-11-17 20:44:56 -0500 (Mon, 17 Nov 2025) EndedAt: 2025-11-17 20:46:07 -0500 (Mon, 17 Nov 2025) EllapsedTime: 71.0 seconds RetCode: 0 Status: OK PackageFile: DominoEffect_1.30.0.tar.gz PackageFileSize: 474.1 KiB