Package: DiscoRhythm Version: 1.26.0 Command: /home/biocbuild/bbs-3.22-bioc/R/bin/R CMD build --keep-empty-dirs --no-resave-data --md5 DiscoRhythm StartedAt: 2025-11-17 20:42:10 -0500 (Mon, 17 Nov 2025) EndedAt: 2025-11-17 20:42:55 -0500 (Mon, 17 Nov 2025) EllapsedTime: 45.0 seconds RetCode: 0 Status: OK PackageFile: DiscoRhythm_1.26.0.tar.gz PackageFileSize: 2.523 MiB