Package: DifferentialRegulation Version: 2.7.0 Command: /home/biocbuild/bbs-3.22-bioc/R/bin/R CMD INSTALL DifferentialRegulation StartedAt: 2025-10-24 15:45:01 -0400 (Fri, 24 Oct 2025) EndedAt: 2025-10-24 15:45:54 -0400 (Fri, 24 Oct 2025) EllapsedTime: 52.9 seconds RetCode: 0 Status: OK