Package: DiffLogo Version: 2.33.0 Command: /home/biocbuild/bbs-3.22-bioc/R/bin/R CMD build --keep-empty-dirs --no-resave-data --md5 DiffLogo StartedAt: 2025-10-24 17:29:00 -0400 (Fri, 24 Oct 2025) EndedAt: 2025-10-24 17:29:44 -0400 (Fri, 24 Oct 2025) EllapsedTime: 44.0 seconds RetCode: 0 Status: OK PackageFile: DiffLogo_2.33.0.tar.gz PackageFileSize: 922.9 KiB