Package: DiffLogo Version: 2.34.0 Command: /Library/Frameworks/R.framework/Resources/bin/R CMD INSTALL DiffLogo StartedAt: 2025-11-03 15:09:54 -0500 (Mon, 03 Nov 2025) EndedAt: 2025-11-03 15:10:41 -0500 (Mon, 03 Nov 2025) EllapsedTime: 47.0 seconds RetCode: 0 Status: OK